BEGIN:VCALENDAR
VERSION:2.0
METHOD:PUBLISH
X-WR-CALNAME;VALUE=TEXT:Agenda #4285
PRODID:-//Drupal iCal API//EN
BEGIN:VEVENT
SUMMARY: Salon des Métiers, de la Formation et de l'Orientation
DTSTART: 20220204T080000
DTEND: 20220205T170000
DESCRIPTION: 180 exposants accueilleront toutes les personnes désireuses de s'informer sur les métiers et les formations à l'espace Carat d'Angoulême. L'AFT sera bien évidemment présente pour vous renseigner sur le secteur Transport-Logistique.
END:VEVENT
BEGIN:VEVENT
SUMMARY: Salon des Métiers, de la Formation et de l'Orientation
DTSTART: 20220204T080000
DTEND: 20220205T170000
DESCRIPTION: 180 exposants accueilleront toutes les personnes désireuses de s'informer sur les métiers et les formations à l'espace Carat d'Angoulême. L'AFT sera bien évidemment présente pour vous renseigner sur le secteur Transport-Logistique.
END:VEVENT
BEGIN:VEVENT
SUMMARY: Salon des Métiers, de la Formation et de l'Orientation
DTSTART: 20220204T080000
DTEND: 20220205T170000
DESCRIPTION: 180 exposants accueilleront toutes les personnes désireuses de s'informer sur les métiers et les formations à l'espace Carat d'Angoulême. L'AFT sera bien évidemment présente pour vous renseigner sur le secteur Transport-Logistique.
END:VEVENT
BEGIN:VEVENT
SUMMARY: Salon des Métiers, de la Formation et de l'Orientation
DTSTART: 20220204T080000
DTEND: 20220205T170000
DESCRIPTION: 180 exposants accueilleront toutes les personnes désireuses de s'informer sur les métiers et les formations à l'espace Carat d'Angoulême. L'AFT sera bien évidemment présente pour vous renseigner sur le secteur Transport-Logistique.
END:VEVENT
END:VCALENDAR
