BEGIN:VCALENDAR
VERSION:2.0
METHOD:PUBLISH
X-WR-CALNAME;VALUE=TEXT:Agenda #4296
PRODID:-//Drupal iCal API//EN
BEGIN:VEVENT
SUMMARY: Focus métier spécial logistique le 15 mars 2022 dans le Grand Est
DTSTART: 20220315T130000
DTEND: 20220315T143000
DESCRIPTION: Venez découvrir, en visioconférence pendant 1h30,&nbsp;les différents métiers de la logistique.
END:VEVENT
BEGIN:VEVENT
SUMMARY: Focus métier spécial logistique le 15 mars 2022 dans le Grand Est
DTSTART: 20220315T130000
DTEND: 20220315T143000
DESCRIPTION: Venez découvrir, en visioconférence pendant 1h30,&nbsp;les différents métiers de la logistique.
END:VEVENT
END:VCALENDAR
