BEGIN:VCALENDAR
VERSION:2.0
METHOD:PUBLISH
X-WR-CALNAME;VALUE=TEXT:Agenda #4301
PRODID:-//Drupal iCal API//EN
BEGIN:VEVENT
SUMMARY: Prescript'heures Hauts-de-France : le Transport routier de voyageurs
DTSTART: 20220216T090000
DTEND: 20220216T103000
DESCRIPTION: Actualisez&nbsp;vos connaissances dans le secteur&nbsp;transport routier de voyageurs et participez au&nbsp;webinaire&nbsp;proposé par l'AFT Hauts-de-France !
END:VEVENT
END:VCALENDAR
