BEGIN:VCALENDAR
VERSION:2.0
METHOD:PUBLISH
X-WR-CALNAME;VALUE=TEXT:Agenda #4304
PRODID:-//Drupal iCal API//EN
BEGIN:VEVENT
SUMMARY: Prescript'heures Hauts-de-France : Présentation des chiffres régionaux 2021 de l'OPTL
DTSTART: 20220314T130000
DTEND: 20220314T143000
DESCRIPTION: Participez au webinaire sur la présentation du rapport 2021 de l'OPTL Hauts de France
END:VEVENT
END:VCALENDAR
