BEGIN:VCALENDAR
VERSION:2.0
METHOD:PUBLISH
X-WR-CALNAME;VALUE=TEXT:Agenda #4305
PRODID:-//Drupal iCal API//EN
BEGIN:VEVENT
SUMMARY: Prescript'heures Hauts-de-France : le déménagement
DTSTART: 20220404T120000
DTEND: 20220404T133000
DESCRIPTION: Actualisez&nbsp;vos connaissances dans le secteur du déménagement&nbsp;et participez au&nbsp;webinaire&nbsp;proposé par l'AFT Hauts-de-France !
END:VEVENT
END:VCALENDAR
