BEGIN:VCALENDAR
VERSION:2.0
METHOD:PUBLISH
X-WR-CALNAME;VALUE=TEXT:Agenda #4306
PRODID:-//Drupal iCal API//EN
BEGIN:VEVENT
SUMMARY: Prescript'heures Hauts-de-France : le transport routier de marchandises
DTSTART: 20220502T120000
DTEND: 20220502T133000
DESCRIPTION: Actualisez&nbsp;vos connaissances dans le secteur transport routier de marchandises&nbsp;et participez au&nbsp;webinaire&nbsp;proposé par l'AFT Hauts-de-France !
END:VEVENT
END:VCALENDAR
