BEGIN:VCALENDAR
VERSION:2.0
METHOD:PUBLISH
X-WR-CALNAME;VALUE=TEXT:Agenda #4307
PRODID:-//Drupal iCal API//EN
BEGIN:VEVENT
SUMMARY: Prescript'heures Hauts-de-France : les activités logistiques
DTSTART: 20220613T120000
DTEND: 20220613T133000
DESCRIPTION: Actualisez&nbsp;vos connaissances dans le domaine de la&nbsp;logistique et participez au&nbsp;webinaire&nbsp;proposé par l'AFT Hauts-de-France !
END:VEVENT
END:VCALENDAR
