BEGIN:VCALENDAR
VERSION:2.0
METHOD:PUBLISH
X-WR-CALNAME;VALUE=TEXT:Agenda #4309
PRODID:-//Drupal iCal API//EN
BEGIN:VEVENT
SUMMARY: Forum de l'ARO Les Métiers en Tournée - 22 &amp; 23 février - Fécamp, Normandie
DTSTART: 20220222T080000
DTEND: 20220223T160000
DESCRIPTION: Expériences immersives, découvertes des métiers, animations ludiques, rencontres de professionnels, ...&nbsp;
END:VEVENT
END:VCALENDAR
