BEGIN:VCALENDAR
VERSION:2.0
METHOD:PUBLISH
X-WR-CALNAME;VALUE=TEXT:Agenda #4311
PRODID:-//Drupal iCal API//EN
BEGIN:VEVENT
SUMMARY: Prescript'heures Hauts-de-France : le transport sanitaire
DTSTART: 20220704T120000
DTEND: 20220704T133000
DESCRIPTION: Actualisez&nbsp;vos connaissances dans le domaine du transport sanitaire et participez au&nbsp;webinaire&nbsp;proposé par l'AFT Hauts-de-France !
END:VEVENT
END:VCALENDAR
