BEGIN:VCALENDAR
VERSION:2.0
METHOD:PUBLISH
X-WR-CALNAME;VALUE=TEXT:Agenda #4315
PRODID:-//Drupal iCal API//EN
BEGIN:VEVENT
SUMMARY: Les 3ème de Saint-François Les Goélands (Drôme) bâtissent leur avenir
DTSTART: 20220210T073000
DTEND: 20220210T160000
DESCRIPTION: En collaboration avec le Bus de l’Orientation, l’AFT Auvergne Rhône-Alpes présente les carrières en Transport &amp; Logistique.
END:VEVENT
BEGIN:VEVENT
SUMMARY: Les 3ème de Saint-François Les Goélands (Drôme) bâtissent leur avenir
DTSTART: 20220210T073000
DTEND: 20220210T160000
DESCRIPTION: En collaboration avec le Bus de l’Orientation, l’AFT Auvergne Rhône-Alpes présente les carrières en Transport &amp; Logistique.
END:VEVENT
END:VCALENDAR
