BEGIN:VCALENDAR
VERSION:2.0
METHOD:PUBLISH
X-WR-CALNAME;VALUE=TEXT:Agenda #4320
PRODID:-//Drupal iCal API//EN
BEGIN:VEVENT
SUMMARY: "Dialogue avec un pro" en AuRA  sur le thème du transport routier de marchandises
DTSTART: 20220330T120000
DTEND: 20220330T120000
DESCRIPTION: Pour connaître un métier, quoi de mieux que&nbsp;d'écouter&nbsp;les professionnels en parler.

XPO Logistics nous accompagnera tout au long de cette conférence, afin de vous présenter les métiers de la conduite routière de marchandises.
END:VEVENT
END:VCALENDAR
