BEGIN:VCALENDAR
VERSION:2.0
METHOD:PUBLISH
X-WR-CALNAME;VALUE=TEXT:Agenda #4331
PRODID:-//Drupal iCal API//EN
BEGIN:VEVENT
SUMMARY: Présentation des métiers du transport aux jeunes de l'APEL'S
DTSTART: 20220222T230000
DTEND: 20220222T230000
DESCRIPTION: L'AFT Ile-de-France présentera les opportunités d'emploi dans les secteurs du transport et de la logistique aux jeunes intégrés dans le programme&nbsp;de l'Apel's,&nbsp;Agence pour l'éducation par le sport.
END:VEVENT
END:VCALENDAR
