BEGIN:VCALENDAR
VERSION:2.0
METHOD:PUBLISH
X-WR-CALNAME;VALUE=TEXT:Agenda #4339
PRODID:-//Drupal iCal API//EN
BEGIN:VEVENT
SUMMARY: L'AFT Ile-de-France sera présente au forum "Vivre et travailler à Sucy-en-Brie" le 17 février 2022
DTSTART: 20220216T230000
DTEND: 20220216T230000
DESCRIPTION: L'AFT installe un simulateur de conduite au forum "Vivre et travailler à Sucy-en-Brie" le 17 février 2022

Salon dédié aux jeunes diplômés ou travailleurs expérimentés,en recherche active d'emploi ou en réflexion pour en changer, cadre ou technicien.
END:VEVENT
END:VCALENDAR
