BEGIN:VCALENDAR
VERSION:2.0
METHOD:PUBLISH
X-WR-CALNAME;VALUE=TEXT:Agenda #4343
PRODID:-//Drupal iCal API//EN
BEGIN:VEVENT
SUMMARY: Semaine du transport en commun - Information métiers au Lycée Professionnel Maréchal Leclerc à Ingré
DTSTART: 20220224T130000
DTEND: 20220224T150000
DESCRIPTION: Venez découvrir les métiers et les formations du transport de voyageurs avec Pôle Emploi, Transdev Loiret,&nbsp;les Cars Dunois, et l'AFT dans les locaux du Lycée Professionnel Maréchal Leclerc à Ingré.
END:VEVENT
END:VCALENDAR
