BEGIN:VCALENDAR
VERSION:2.0
METHOD:PUBLISH
X-WR-CALNAME;VALUE=TEXT:Agenda #435
PRODID:-//Drupal iCal API//EN
BEGIN:VEVENT
SUMMARY: Animation au lycée Goulden de Baschwiller et visite de FM logistic
DTSTART: 20170117T070000
DTEND: 20170117T170000
DESCRIPTION: Le 17 janvier, l'AFT présentera à des élèves de Bac Pro Commerce les métiers et filières d'accès au secteur du Transport et de la Logistique.
END:VEVENT
BEGIN:VEVENT
SUMMARY: Animation au lycée Goulden de Baschwiller et visite de FM logistic
DTSTART: 20170117T070000
DTEND: 20170117T170000
DESCRIPTION: Le 17 janvier, l'AFT présentera à des élèves de Bac Pro Commerce les métiers et filières d'accès au secteur du Transport et de la Logistique.
END:VEVENT
BEGIN:VEVENT
SUMMARY: Animation au lycée Goulden de Baschwiller et visite de FM logistic
DTSTART: 20170117T070000
DTEND: 20170117T170000
DESCRIPTION: Le 17 janvier, l'AFT présentera à des élèves de Bac Pro Commerce les métiers et filières d'accès au secteur du Transport et de la Logistique.
END:VEVENT
BEGIN:VEVENT
SUMMARY: Animation au lycée Goulden de Baschwiller et visite de FM logistic
DTSTART: 20170117T070000
DTEND: 20170117T170000
DESCRIPTION: Le 17 janvier, l'AFT présentera à des élèves de Bac Pro Commerce les métiers et filières d'accès au secteur du Transport et de la Logistique.
END:VEVENT
END:VCALENDAR
