BEGIN:VCALENDAR
VERSION:2.0
METHOD:PUBLISH
X-WR-CALNAME;VALUE=TEXT:Agenda #4351
PRODID:-//Drupal iCal API//EN
BEGIN:VEVENT
SUMMARY: Fabrick de l’emploi 25 février 2022
DTSTART: 20220225T080000
DTEND: 20220225T120000
DESCRIPTION: Venez nous rencontrer !
Venez participer à ce forum métier ;&nbsp;nous vous présenterons&nbsp;les métiers du Transport et de la Logistique, des métiers qui recrutent&nbsp;:&nbsp;vendredi&nbsp;25 février de&nbsp;9h&nbsp;à&nbsp;13h.

Pour sa 4ème édition, la Fabrik de l'Emploi s'installe à l'Espace sportif de Tinténiac
END:VEVENT
BEGIN:VEVENT
SUMMARY: Fabrick de l’emploi 25 février 2022
DTSTART: 20220225T080000
DTEND: 20220225T120000
DESCRIPTION: Venez nous rencontrer !
Venez participer à ce forum métier ;&nbsp;nous vous présenterons&nbsp;les métiers du Transport et de la Logistique, des métiers qui recrutent&nbsp;:&nbsp;vendredi&nbsp;25 février de&nbsp;9h&nbsp;à&nbsp;13h.

Pour sa 4ème édition, la Fabrik de l'Emploi s'installe à l'Espace sportif de Tinténiac
END:VEVENT
BEGIN:VEVENT
SUMMARY: Fabrick de l’emploi 25 février 2022
DTSTART: 20220225T080000
DTEND: 20220225T120000
DESCRIPTION: Venez nous rencontrer !
Venez participer à ce forum métier ;&nbsp;nous vous présenterons&nbsp;les métiers du Transport et de la Logistique, des métiers qui recrutent&nbsp;:&nbsp;vendredi&nbsp;25 février de&nbsp;9h&nbsp;à&nbsp;13h.

Pour sa 4ème édition, la Fabrik de l'Emploi s'installe à l'Espace sportif de Tinténiac
END:VEVENT
END:VCALENDAR
