BEGIN:VCALENDAR
VERSION:2.0
METHOD:PUBLISH
X-WR-CALNAME;VALUE=TEXT:Agenda #4353
PRODID:-//Drupal iCal API//EN
BEGIN:VEVENT
SUMMARY: Semaine du transport en commun - Visite de Transdev Loir-et-Cher
DTSTART: 20220225T080000
DTEND: 20220225T110000
DESCRIPTION: Dans le cadre de la semaine du transport en commun, l'entreprise Transdev Loir-et-Cher&nbsp;vous ouvre ses portes !
END:VEVENT
END:VCALENDAR
