BEGIN:VCALENDAR
VERSION:2.0
METHOD:PUBLISH
X-WR-CALNAME;VALUE=TEXT:Agenda #4356
PRODID:-//Drupal iCal API//EN
BEGIN:VEVENT
SUMMARY: XPO Logistics Bourges - Forum Emploi Transport-Logistique
DTSTART: 20220224T090000
DTEND: 20220224T143000
DESCRIPTION: XPO Bourges vous ouvre ses portes !
END:VEVENT
END:VCALENDAR
