BEGIN:VCALENDAR
VERSION:2.0
METHOD:PUBLISH
X-WR-CALNAME;VALUE=TEXT:Agenda #4358
PRODID:-//Drupal iCal API//EN
BEGIN:VEVENT
SUMMARY: Métiers du Transport - Job Dating Orléans
DTSTART: 20220301T123000
DTEND: 20220301T160000
DESCRIPTION: L'AFT sera présente pour vous informer sur les métiers et les formations du transport lors du Job Dating Transport de Pôle Emploi et Orléans Métropole le 1 mars prochain à Orléans La Source.
END:VEVENT
END:VCALENDAR
