BEGIN:VCALENDAR
VERSION:2.0
METHOD:PUBLISH
X-WR-CALNAME;VALUE=TEXT:Agenda #4359
PRODID:-//Drupal iCal API//EN
BEGIN:VEVENT
SUMMARY: Forum de l'Orientation et des métiers d'Orléans 2022
DTSTART: 20220303T080000
DTEND: 20220305T160000
DESCRIPTION: L'AFT sera présente pour vous informer sur les métiers et les formations du transport et de la logistique lors du Forum de l'Orientation et des métiers d'Orléans du jeudi 3 au samedi 5 mars 2022.&nbsp;
END:VEVENT
END:VCALENDAR
