BEGIN:VCALENDAR
VERSION:2.0
METHOD:PUBLISH
X-WR-CALNAME;VALUE=TEXT:Agenda #4360
PRODID:-//Drupal iCal API//EN
BEGIN:VEVENT
SUMMARY: Focus métiers de la logistique et de la supply chain en Centre-Val de Loire
DTSTART: 20220324T073000
DTEND: 20220324T090000
DESCRIPTION: Découvrez la diversité des métiers de la logistique et de la supply chain et les formations pour y accéder.&nbsp;

Ce sont des métiers qui recrutent aujourd'hui et demain !

&nbsp;
END:VEVENT
BEGIN:VEVENT
SUMMARY: Focus métiers de la logistique et de la supply chain en Centre-Val de Loire
DTSTART: 20220324T073000
DTEND: 20220324T090000
DESCRIPTION: Découvrez la diversité des métiers de la logistique et de la supply chain et les formations pour y accéder.&nbsp;

Ce sont des métiers qui recrutent aujourd'hui et demain !

&nbsp;
END:VEVENT
BEGIN:VEVENT
SUMMARY: Focus métiers de la logistique et de la supply chain en Centre-Val de Loire
DTSTART: 20220324T073000
DTEND: 20220324T090000
DESCRIPTION: Découvrez la diversité des métiers de la logistique et de la supply chain et les formations pour y accéder.&nbsp;

Ce sont des métiers qui recrutent aujourd'hui et demain !

&nbsp;
END:VEVENT
END:VCALENDAR
