BEGIN:VCALENDAR
VERSION:2.0
METHOD:PUBLISH
X-WR-CALNAME;VALUE=TEXT:Agenda #4362
PRODID:-//Drupal iCal API//EN
BEGIN:VEVENT
SUMMARY: Focus Métiers en PACA : venez découvrir les métiers de la logistique !
DTSTART: 20220304T090000
DTEND: 20220304T103000
DESCRIPTION: Le secteur de la logistique recrute en PACA ! Venez découvrir des emplois d'avenir lors de notre prochain Focus métiers organisé en visioconférence.

&nbsp;
END:VEVENT
END:VCALENDAR
