BEGIN:VCALENDAR
VERSION:2.0
METHOD:PUBLISH
X-WR-CALNAME;VALUE=TEXT:Agenda #4364
PRODID:-//Drupal iCal API//EN
BEGIN:VEVENT
SUMMARY: XPO Logistics ouvre ses portes !
DTSTART: 20220224T090000
DTEND: 20220224T150000
DESCRIPTION: XPO Logistics ouvre ses portes le 24 février 2022 de 10h à 16h&nbsp;pour faire découvrir les métiers du transport de marchandises et recruter pour des postes à pourvoir.
END:VEVENT
BEGIN:VEVENT
SUMMARY: XPO Logistics ouvre ses portes !
DTSTART: 20220224T090000
DTEND: 20220224T150000
DESCRIPTION: XPO Logistics ouvre ses portes le 24 février 2022 de 10h à 16h&nbsp;pour faire découvrir les métiers du transport de marchandises et recruter pour des postes à pourvoir.
END:VEVENT
BEGIN:VEVENT
SUMMARY: XPO Logistics ouvre ses portes !
DTSTART: 20220224T090000
DTEND: 20220224T150000
DESCRIPTION: XPO Logistics ouvre ses portes le 24 février 2022 de 10h à 16h&nbsp;pour faire découvrir les métiers du transport de marchandises et recruter pour des postes à pourvoir.
END:VEVENT
END:VCALENDAR
