BEGIN:VCALENDAR
VERSION:2.0
METHOD:PUBLISH
X-WR-CALNAME;VALUE=TEXT:Agenda #4371
PRODID:-//Drupal iCal API//EN
BEGIN:VEVENT
SUMMARY: Présentation des outils de valorisation des métiers à Bourgoin-Jallieu
DTSTART: 20220222T130000
DTEND: 20220222T160000
DESCRIPTION: La Mission locale de de Bourgoin-Jallieu nous ouvre ses portes afin de lui faire découvrir les différents dispositifs et actions que&nbsp;l’AFT a mis en place pour la promotion&nbsp;des métiers et formations du secteur&nbsp;Transport – Logistique.
END:VEVENT
BEGIN:VEVENT
SUMMARY: Présentation des outils de valorisation des métiers à Bourgoin-Jallieu
DTSTART: 20220222T130000
DTEND: 20220222T160000
DESCRIPTION: La Mission locale de de Bourgoin-Jallieu nous ouvre ses portes afin de lui faire découvrir les différents dispositifs et actions que&nbsp;l’AFT a mis en place pour la promotion&nbsp;des métiers et formations du secteur&nbsp;Transport – Logistique.
END:VEVENT
END:VCALENDAR
