BEGIN:VCALENDAR
VERSION:2.0
METHOD:PUBLISH
X-WR-CALNAME;VALUE=TEXT:Agenda #4372
PRODID:-//Drupal iCal API//EN
BEGIN:VEVENT
SUMMARY: Forum Emploi sur 6 sites d'XPO Logistics le jeudi 24 février !
DTSTART: 20220224T090000
DTEND: 20220224T150000
DESCRIPTION: Vous souhaitez découvrir le secteur Transport Logistique, vous êtes intéressés par les métiers du secteur, vous êtes à la recherche d'un emploi ?
END:VEVENT
BEGIN:VEVENT
SUMMARY: Forum Emploi sur 6 sites d'XPO Logistics le jeudi 24 février !
DTSTART: 20220224T090000
DTEND: 20220224T150000
DESCRIPTION: Vous souhaitez découvrir le secteur Transport Logistique, vous êtes intéressés par les métiers du secteur, vous êtes à la recherche d'un emploi ?
END:VEVENT
BEGIN:VEVENT
SUMMARY: Forum Emploi sur 6 sites d'XPO Logistics le jeudi 24 février !
DTSTART: 20220224T090000
DTEND: 20220224T150000
DESCRIPTION: Vous souhaitez découvrir le secteur Transport Logistique, vous êtes intéressés par les métiers du secteur, vous êtes à la recherche d'un emploi ?
END:VEVENT
END:VCALENDAR
