BEGIN:VCALENDAR
VERSION:2.0
METHOD:PUBLISH
X-WR-CALNAME;VALUE=TEXT:Agenda #4377
PRODID:-//Drupal iCal API//EN
BEGIN:VEVENT
SUMMARY: Forum de la Mixité des formations à Besançon le 8 mars
DTSTART: 20220308T080000
DTEND: 20220308T103000
DESCRIPTION: Le Forum de la Mixité des formations&nbsp;est un événement de promotion de la mixité professionnelle

L'objectif ? Permettre&nbsp;à des femmes en construction de projet d'élargir leurs horizons professionnels en découvrant&nbsp;des métiers encore peu féminisés auxquels elles n'auraient pas pensé, dont ceux du Transport-Logistique !

&nbsp;
END:VEVENT
END:VCALENDAR
