BEGIN:VCALENDAR
VERSION:2.0
METHOD:PUBLISH
X-WR-CALNAME;VALUE=TEXT:Agenda #4378
PRODID:-//Drupal iCal API//EN
BEGIN:VEVENT
SUMMARY: Les "Focus Métiers" reprennent en Pays de la Loire
DTSTART: 20220429T080000
DTEND: 20220706T133000
DESCRIPTION: "Focus Métiers" vous connaissez ?&nbsp;

Ce sont des visioconférences, pour tout public, destinées à s'informer

sur les métiers du secteur Transport Logistique !

&nbsp;
END:VEVENT
END:VCALENDAR
