BEGIN:VCALENDAR
VERSION:2.0
METHOD:PUBLISH
X-WR-CALNAME;VALUE=TEXT:Agenda #4379
PRODID:-//Drupal iCal API//EN
BEGIN:VEVENT
SUMMARY: Dialogue avec 1 Pro du Transport de Voyageurs
DTSTART: 20220225T093000
DTEND: 20220225T093000
DESCRIPTION: Vous êtes en recherche d'emploi, conseiller.ère emploi/formation, salarié.e, étudiant.e... et curieux de mieux connaitre les métiers&nbsp;?&nbsp;

Dialoguez&nbsp;en direct pendant 1 heure&nbsp;avec un&nbsp;professionnel du Transport routier de voyageurs&nbsp;qui témoignera de son expérience professionnelle dans ce secteur d'activités et répondra en direct à toutes les questions que vous vous posez !
END:VEVENT
BEGIN:VEVENT
SUMMARY: Dialogue avec 1 Pro du Transport de Voyageurs
DTSTART: 20220225T093000
DTEND: 20220225T093000
DESCRIPTION: Vous êtes en recherche d'emploi, conseiller.ère emploi/formation, salarié.e, étudiant.e... et curieux de mieux connaitre les métiers&nbsp;?&nbsp;

Dialoguez&nbsp;en direct pendant 1 heure&nbsp;avec un&nbsp;professionnel du Transport routier de voyageurs&nbsp;qui témoignera de son expérience professionnelle dans ce secteur d'activités et répondra en direct à toutes les questions que vous vous posez !
END:VEVENT
END:VCALENDAR
