BEGIN:VCALENDAR
VERSION:2.0
METHOD:PUBLISH
X-WR-CALNAME;VALUE=TEXT:Agenda #4384
PRODID:-//Drupal iCal API//EN
BEGIN:VEVENT
SUMMARY: Conductrice en transport routier de marchandises - Uniroute Centre-Val de Loire
DTSTART: 20220308T150000
DTEND: 20220308T160000
DESCRIPTION: Vous recherchez des informations sur le secteur&nbsp;du transport de marchandises&nbsp;?

Venez échanger avec une professionnelle du secteur à l'occasion de la journée des droits des femmes&nbsp;!

&nbsp;
END:VEVENT
BEGIN:VEVENT
SUMMARY: Conductrice en transport routier de marchandises - Uniroute Centre-Val de Loire
DTSTART: 20220308T150000
DTEND: 20220308T160000
DESCRIPTION: Vous recherchez des informations sur le secteur&nbsp;du transport de marchandises&nbsp;?

Venez échanger avec une professionnelle du secteur à l'occasion de la journée des droits des femmes&nbsp;!

&nbsp;
END:VEVENT
END:VCALENDAR
