BEGIN:VCALENDAR
VERSION:2.0
METHOD:PUBLISH
X-WR-CALNAME;VALUE=TEXT:Agenda #4386
PRODID:-//Drupal iCal API//EN
BEGIN:VEVENT
SUMMARY: NIMES : Les jeunes de l'AFIG SUD découvrent les métiers du transport et de la logistique
DTSTART: 20220301T083000
DTEND: 20220301T083000
DESCRIPTION: L'AFT Occitanie interviendra Mardi 1 mars&nbsp;de 9h30 à 12h à l'AFIG SUD&nbsp; pour présenter les différents métiers que l'on retrouve dans le secteur Transport Logistique.
END:VEVENT
BEGIN:VEVENT
SUMMARY: NIMES : Les jeunes de l'AFIG SUD découvrent les métiers du transport et de la logistique
DTSTART: 20220301T083000
DTEND: 20220301T083000
DESCRIPTION: L'AFT Occitanie interviendra Mardi 1 mars&nbsp;de 9h30 à 12h à l'AFIG SUD&nbsp; pour présenter les différents métiers que l'on retrouve dans le secteur Transport Logistique.
END:VEVENT
BEGIN:VEVENT
SUMMARY: NIMES : Les jeunes de l'AFIG SUD découvrent les métiers du transport et de la logistique
DTSTART: 20220301T083000
DTEND: 20220301T083000
DESCRIPTION: L'AFT Occitanie interviendra Mardi 1 mars&nbsp;de 9h30 à 12h à l'AFIG SUD&nbsp; pour présenter les différents métiers que l'on retrouve dans le secteur Transport Logistique.
END:VEVENT
END:VCALENDAR
