BEGIN:VCALENDAR
VERSION:2.0
METHOD:PUBLISH
X-WR-CALNAME;VALUE=TEXT:Agenda #4388
PRODID:-//Drupal iCal API//EN
BEGIN:VEVENT
SUMMARY: Montpellier : Rencontre avec des jeunes du Groupe SOS-CADA ELISA
DTSTART: 20220303T090000
DTEND: 20220303T090000
DESCRIPTION: L'AFT Occitanie interviendra Jeudi 3 mars&nbsp;prochain de 10h à 12h&nbsp;&nbsp;pour présenter les différents métiers que l'on retrouve dans le secteur Transport Logistique.&nbsp;
END:VEVENT
BEGIN:VEVENT
SUMMARY: Montpellier : Rencontre avec des jeunes du Groupe SOS-CADA ELISA
DTSTART: 20220303T090000
DTEND: 20220303T090000
DESCRIPTION: L'AFT Occitanie interviendra Jeudi 3 mars&nbsp;prochain de 10h à 12h&nbsp;&nbsp;pour présenter les différents métiers que l'on retrouve dans le secteur Transport Logistique.&nbsp;
END:VEVENT
BEGIN:VEVENT
SUMMARY: Montpellier : Rencontre avec des jeunes du Groupe SOS-CADA ELISA
DTSTART: 20220303T090000
DTEND: 20220303T090000
DESCRIPTION: L'AFT Occitanie interviendra Jeudi 3 mars&nbsp;prochain de 10h à 12h&nbsp;&nbsp;pour présenter les différents métiers que l'on retrouve dans le secteur Transport Logistique.&nbsp;
END:VEVENT
END:VCALENDAR
