BEGIN:VCALENDAR
VERSION:2.0
METHOD:PUBLISH
X-WR-CALNAME;VALUE=TEXT:Agenda #4392
PRODID:-//Drupal iCal API//EN
BEGIN:VEVENT
SUMMARY: Les lycéens du lycée Paul Héroult à la découverte des métiers du transport et de la logistique
DTSTART: 20220301T073000
DTEND: 20220301T153000
DESCRIPTION: L’AFT Rhône-Alpes interviendra le 1er mars au Lycée Paul Héroult de Saint Jean de Maurienne, afin de présenter aux élèves les différents métiers et les nombreuses&nbsp;opportunités d’emplois du secteur Transport et Logistique.
END:VEVENT
BEGIN:VEVENT
SUMMARY: Les lycéens du lycée Paul Héroult à la découverte des métiers du transport et de la logistique
DTSTART: 20220301T073000
DTEND: 20220301T153000
DESCRIPTION: L’AFT Rhône-Alpes interviendra le 1er mars au Lycée Paul Héroult de Saint Jean de Maurienne, afin de présenter aux élèves les différents métiers et les nombreuses&nbsp;opportunités d’emplois du secteur Transport et Logistique.
END:VEVENT
END:VCALENDAR
