BEGIN:VCALENDAR
VERSION:2.0
METHOD:PUBLISH
X-WR-CALNAME;VALUE=TEXT:Agenda #4396
PRODID:-//Drupal iCal API//EN
BEGIN:VEVENT
SUMMARY: Découverte du secteurTransport/Logistique pour les jeunes de la MLDS du lycée Marcelle Pardé
DTSTART: 20220303T130000
DTEND: 20220303T153000
DESCRIPTION: L'AFT Rhône-Alpes&nbsp;interviendra&nbsp;le 3 mars 2022 auprès des jeunes de&nbsp;la&nbsp;MLDS&nbsp;(Mission de Lutte Contre le Décrochage Scolaire) du lycée Marcelle Pardé à Bourg-en-Bresse.
END:VEVENT
BEGIN:VEVENT
SUMMARY: Découverte du secteurTransport/Logistique pour les jeunes de la MLDS du lycée Marcelle Pardé
DTSTART: 20220303T130000
DTEND: 20220303T153000
DESCRIPTION: L'AFT Rhône-Alpes&nbsp;interviendra&nbsp;le 3 mars 2022 auprès des jeunes de&nbsp;la&nbsp;MLDS&nbsp;(Mission de Lutte Contre le Décrochage Scolaire) du lycée Marcelle Pardé à Bourg-en-Bresse.
END:VEVENT
END:VCALENDAR
