BEGIN:VCALENDAR
VERSION:2.0
METHOD:PUBLISH
X-WR-CALNAME;VALUE=TEXT:Agenda #4404
PRODID:-//Drupal iCal API//EN
BEGIN:VEVENT
SUMMARY: Olympiades de la logistique et de la conduite routière
DTSTART: 20220428T070000
DTEND: 20220428T143000
DESCRIPTION: Les membres du&nbsp;campus des métiers et des qualifications Transport Logistique Sécurité dont&nbsp;l'AFT Hauts-de-France organisent le jeudi 28 avril 2022 de 9 h à 16h30&nbsp;les premières&nbsp;Olympiades de la Logistique et de la Conduite Routière&nbsp;au LP Philippe Auguste de Bapaume (62).
END:VEVENT
BEGIN:VEVENT
SUMMARY: Olympiades de la logistique et de la conduite routière
DTSTART: 20220428T070000
DTEND: 20220428T143000
DESCRIPTION: Les membres du&nbsp;campus des métiers et des qualifications Transport Logistique Sécurité dont&nbsp;l'AFT Hauts-de-France organisent le jeudi 28 avril 2022 de 9 h à 16h30&nbsp;les premières&nbsp;Olympiades de la Logistique et de la Conduite Routière&nbsp;au LP Philippe Auguste de Bapaume (62).
END:VEVENT
BEGIN:VEVENT
SUMMARY: Olympiades de la logistique et de la conduite routière
DTSTART: 20220428T070000
DTEND: 20220428T143000
DESCRIPTION: Les membres du&nbsp;campus des métiers et des qualifications Transport Logistique Sécurité dont&nbsp;l'AFT Hauts-de-France organisent le jeudi 28 avril 2022 de 9 h à 16h30&nbsp;les premières&nbsp;Olympiades de la Logistique et de la Conduite Routière&nbsp;au LP Philippe Auguste de Bapaume (62).
END:VEVENT
END:VCALENDAR
