BEGIN:VCALENDAR
VERSION:2.0
METHOD:PUBLISH
X-WR-CALNAME;VALUE=TEXT:Agenda #4417
PRODID:-//Drupal iCal API//EN
BEGIN:VEVENT
SUMMARY: Nuit de l'Orientation à Villefontaine (38)
DTSTART: 20220304T163000
DTEND: 20220304T203000
DESCRIPTION: L’AFT Rhône-Alpes est présente à la Nuit de l’Orientation :&nbsp;le RDV des collégiens, lycéens et étudiants pour s’orienter et découvrir les métiers.
END:VEVENT
END:VCALENDAR
