BEGIN:VCALENDAR
VERSION:2.0
METHOD:PUBLISH
X-WR-CALNAME;VALUE=TEXT:Agenda #442
PRODID:-//Drupal iCal API//EN
BEGIN:VEVENT
SUMMARY: Calendrier des réunions d'information de 1er semestre 2017
DTSTART: 20170524T120000
DTEND: 20170626T070000
DESCRIPTION: Dates des réunions d'information sur les métiers et filières d'accès
END:VEVENT
BEGIN:VEVENT
SUMMARY: Calendrier des réunions d'information de 1er semestre 2017
DTSTART: 20170524T120000
DTEND: 20170626T070000
DESCRIPTION: Dates des réunions d'information sur les métiers et filières d'accès
END:VEVENT
BEGIN:VEVENT
SUMMARY: Calendrier des réunions d'information de 1er semestre 2017
DTSTART: 20170524T120000
DTEND: 20170626T070000
DESCRIPTION: Dates des réunions d'information sur les métiers et filières d'accès
END:VEVENT
BEGIN:VEVENT
SUMMARY: Calendrier des réunions d'information de 1er semestre 2017
DTSTART: 20170524T120000
DTEND: 20170626T070000
DESCRIPTION: Dates des réunions d'information sur les métiers et filières d'accès
END:VEVENT
END:VCALENDAR
