BEGIN:VCALENDAR
VERSION:2.0
METHOD:PUBLISH
X-WR-CALNAME;VALUE=TEXT:Agenda #473
PRODID:-//Drupal iCal API//EN
BEGIN:VEVENT
SUMMARY: Rencontre groupe de travail CIDFF33
DTSTART: 20160923T070000
DTEND: 20160923T160000
DESCRIPTION: Présentation des métiers, de l'emploi&nbsp;et des formations en transport et logistique : mission d'orientaion et &nbsp;visite du centre de formation le 23 septembre 2016.
END:VEVENT
BEGIN:VEVENT
SUMMARY: Rencontre groupe de travail CIDFF33
DTSTART: 20160923T070000
DTEND: 20160923T160000
DESCRIPTION: Présentation des métiers, de l'emploi&nbsp;et des formations en transport et logistique : mission d'orientaion et &nbsp;visite du centre de formation le 23 septembre 2016.
END:VEVENT
END:VCALENDAR
