BEGIN:VCALENDAR
VERSION:2.0
METHOD:PUBLISH
X-WR-CALNAME;VALUE=TEXT:Agenda #476
PRODID:-//Drupal iCal API//EN
BEGIN:VEVENT
SUMMARY: Rencontre groupe de travail socrate conseils
DTSTART: 20160607T070000
DTEND: 20161221T180000
DESCRIPTION: Présentation des métiers, de l'emploi&nbsp;et des formations en transport et logistique... &nbsp;
END:VEVENT
BEGIN:VEVENT
SUMMARY: Rencontre groupe de travail socrate conseils
DTSTART: 20160607T070000
DTEND: 20161221T180000
DESCRIPTION: Présentation des métiers, de l'emploi&nbsp;et des formations en transport et logistique... &nbsp;
END:VEVENT
END:VCALENDAR
