BEGIN:VCALENDAR
VERSION:2.0
METHOD:PUBLISH
X-WR-CALNAME;VALUE=TEXT:Agenda #4766
PRODID:-//Drupal iCal API//EN
BEGIN:VEVENT
SUMMARY: Journée Prévention chez les Autocars Maisonneuve, à Belleville-en-Beaujolais (69)
DTSTART: 20220708T070000
DTEND: 20220708T110000
DESCRIPTION: L'AFT Auvergne-Rhône-Alpes anime des ateliers de sensibilisation et prévention&nbsp;des conduites addictives&nbsp;auprès des salariés des Autocars Maisonneuve.
END:VEVENT
END:VCALENDAR
