BEGIN:VCALENDAR
VERSION:2.0
METHOD:PUBLISH
X-WR-CALNAME;VALUE=TEXT:Agenda #4776
PRODID:-//Drupal iCal API//EN
BEGIN:VEVENT
SUMMARY: Information collective transport-logistique à la Cité des métiers de Marseille
DTSTART: 20220930T090000
DTEND: 20220930T103000
DESCRIPTION: L'AFT PACA Corse anime tous les mois un atelier de découverte du secteur transport-logistique&nbsp;à la Cité des métiers de Marseille et de Provence-Alpes-Côte d'Azur.
END:VEVENT
END:VCALENDAR
