BEGIN:VCALENDAR
VERSION:2.0
METHOD:PUBLISH
X-WR-CALNAME;VALUE=TEXT:Agenda #4784
PRODID:-//Drupal iCal API//EN
BEGIN:VEVENT
SUMMARY: Information métiers transport-logistique spécial scolaire à la Cité des Métiers de Marseille
DTSTART: 20221021T070000
DTEND: 20221021T083000
DESCRIPTION: Chaque mois l'AFT PACA Corse anime une information collective à destination&nbsp;des lycéens à la Cité des métiers de Marseille et de Provence-Alpes-Côte d'Azur.
END:VEVENT
END:VCALENDAR
