BEGIN:VCALENDAR
VERSION:2.0
METHOD:PUBLISH
X-WR-CALNAME;VALUE=TEXT:Agenda #481
PRODID:-//Drupal iCal API//EN
BEGIN:VEVENT
SUMMARY: Rencontre groupe de travail à l'AFEC
DTSTART: 20160727T060000
DTEND: 20161218T180000
DESCRIPTION: L'AFEC est un organisme de formations professionnelles qui accompagne les salariés et demandeurs d'emploi.

L ’AFEC intervient, selon vos besoins, de la mise à niveau à la préparation de diplômes.&nbsp;
END:VEVENT
BEGIN:VEVENT
SUMMARY: Rencontre groupe de travail à l'AFEC
DTSTART: 20160727T060000
DTEND: 20161218T180000
DESCRIPTION: L'AFEC est un organisme de formations professionnelles qui accompagne les salariés et demandeurs d'emploi.

L ’AFEC intervient, selon vos besoins, de la mise à niveau à la préparation de diplômes.&nbsp;
END:VEVENT
END:VCALENDAR
