BEGIN:VCALENDAR
VERSION:2.0
METHOD:PUBLISH
X-WR-CALNAME;VALUE=TEXT:Agenda #482
PRODID:-//Drupal iCal API//EN
BEGIN:VEVENT
SUMMARY: Rencontre entreprises à Lormont
DTSTART: 20161021T070000
DTEND: 20161021T170000
DESCRIPTION: Vendredi 21 Octobre :

La Ville de Lormont, en partenariat avec le Pôle emploi,Hauts de Garonne Développement&nbsp;et la Mission locale des Hauts de Garonne, organise pour la 2e année consécutive une&nbsp;demi-journée de contacts directs entre les demandeurs d'emplois et les entreprises qui&nbsp;recrutent.

Vendredi 21 octobre à partir de 9h à la Salle Léo Lagrange à Lormont -&nbsp;Entrée Libre

(rue&nbsp;Lavergne – TRAM A arrêt Bois fleuri).
END:VEVENT
END:VCALENDAR
