BEGIN:VCALENDAR
VERSION:2.0
METHOD:PUBLISH
X-WR-CALNAME;VALUE=TEXT:Agenda #4835
PRODID:-//Drupal iCal API//EN
BEGIN:VEVENT
SUMMARY: Détection de potentiel au Pôle emploi de Gardanne
DTSTART: 20220902T064500
DTEND: 20220902T064500
DESCRIPTION: Venez découvrir le secteur du transport lors de l'atelier de détection de potentiel organisé en septembre à Gardanne.
END:VEVENT
END:VCALENDAR
