BEGIN:VCALENDAR
VERSION:2.0
METHOD:PUBLISH
X-WR-CALNAME;VALUE=TEXT:Agenda #4836
PRODID:-//Drupal iCal API//EN
BEGIN:VEVENT
SUMMARY: Détection de potentiel Logistique au Pôle emploi de Hyères
DTSTART: 20221025T064500
DTEND: 20221025T064500
DESCRIPTION: La logistique recrute ! L'AFT PACA Corse présentera les métiers porteurs de ce secteur lors de l'atelier détection de potentiel organisé par le Pôle emploi de Hyères.
END:VEVENT
END:VCALENDAR
