BEGIN:VCALENDAR
VERSION:2.0
METHOD:PUBLISH
X-WR-CALNAME;VALUE=TEXT:Agenda #484
PRODID:-//Drupal iCal API//EN
BEGIN:VEVENT
SUMMARY: 2ème comité tehcnique CIDFF 33
DTSTART: 20161129T080000
DTEND: 20161129T180000
DESCRIPTION: 2 ème COPIL de l'action "favoriser l'insertion professionnelle des femmes et développer la mixité des métiers&nbsp;" au CIDFF 33 le 29 novembre 2016.
END:VEVENT
BEGIN:VEVENT
SUMMARY: 2ème comité tehcnique CIDFF 33
DTSTART: 20161129T080000
DTEND: 20161129T180000
DESCRIPTION: 2 ème COPIL de l'action "favoriser l'insertion professionnelle des femmes et développer la mixité des métiers&nbsp;" au CIDFF 33 le 29 novembre 2016.
END:VEVENT
END:VCALENDAR
