BEGIN:VCALENDAR
VERSION:2.0
METHOD:PUBLISH
X-WR-CALNAME;VALUE=TEXT:Agenda #4848
PRODID:-//Drupal iCal API//EN
BEGIN:VEVENT
SUMMARY: Klésia et l'AFT organisent une réunion d'information
DTSTART: 20220906T120000
DTEND: 20220906T143000
DESCRIPTION: La retraite: comment ça marche ?

L'AFT Transport &amp; Logistique vous propose en collaboration avec Klésia&nbsp;de faire un point sur le système de retraite des salariés du secteur privé et&nbsp;de parcourir les dispositifs d'action sociale existants.
END:VEVENT
END:VCALENDAR
