BEGIN:VCALENDAR
VERSION:2.0
METHOD:PUBLISH
X-WR-CALNAME;VALUE=TEXT:Agenda #4855
PRODID:-//Drupal iCal API//EN
BEGIN:VEVENT
SUMMARY: La Place de l'Emploi et de la Formation à Villars-les-Dombes (01)
DTSTART: 20220913T090000
DTEND: 20220913T110000
DESCRIPTION: Véritable village itinérant de l'Emploi et de la Formation,&nbsp;initié par Pôle Emploi, va à la rencontre des Villardois(es).

Vous cherchez un emploi ou une formation qui vous intéresse ?

L'AFT Transport &amp; Logistique sera présente !
END:VEVENT
END:VCALENDAR
