BEGIN:VCALENDAR
VERSION:2.0
METHOD:PUBLISH
X-WR-CALNAME;VALUE=TEXT:Agenda #4856
PRODID:-//Drupal iCal API//EN
BEGIN:VEVENT
SUMMARY: Se former aux métiers du Transport et de la Logistique, Pourquoi pas vous ? RDV à Pierrelatte (26)
DTSTART: 20220920T120000
DTEND: 20220920T143000
DESCRIPTION: Le Transport et la Logistique proposent des métiers et de carrières pour tous et toutes ?

Deux secteurs qui recrutent près de chez vous.

Venez découvrir de nombreuses opportunités !
END:VEVENT
END:VCALENDAR
