BEGIN:VCALENDAR
VERSION:2.0
METHOD:PUBLISH
X-WR-CALNAME;VALUE=TEXT:Agenda #4858
PRODID:-//Drupal iCal API//EN
BEGIN:VEVENT
SUMMARY: L'AFT Transport Logistique Normandie sera présente au premier salon de l'emploi de la rentrée !
DTSTART: 20220908T080000
DTEND: 20220908T170000
DESCRIPTION: La délégation Normande représentera les métiers du Transport et de la Logistique sur le salon "24H Emploi Formation" organisé par L4M.&nbsp;

De nombreuses autres entreprises seront présentes pour vous aider à vous orienter ou vous réorienter.&nbsp;

Cela se passe le 8 septembre de 10h à 19h, sans interruption, au Zénith de Rouen !&nbsp;

&nbsp;
END:VEVENT
END:VCALENDAR
